BEGIN:VCALENDAR
PRODID:-//hlt.org.nz//EN
VERSION:2.0
METHOD:PUBLISH
BEGIN:VEVENT
DTSTART;TZID=America/New_York:20240504T
DTEND;TZID=America/New_York:20240525T
URL:https://hlt.org.nz/index.php/whats-on/events-calendar/aurelia/
SUMMARY:Aurélia
LOCATION:
DESCRIPTION:After a fight with his aunt, John hastily emigrated to Senegal, where he met and married the ambitious Aurélia. One day, his aunt receives the welcome news the happy couple are returning to England. However, Aurélia arrives alone.
END:VEVENT
END:VCALENDAR