BEGIN:VCALENDAR
PRODID:-//hlt.org.nz//EN
VERSION:2.0
METHOD:PUBLISH
BEGIN:VEVENT
DTSTART;TZID=America/New_York:20240224T
DTEND;TZID=America/New_York:20240316T
URL:https://hlt.org.nz/index.php/whats-on/events-calendar/grand-horizons/
SUMMARY:Grand Horizons
LOCATION:
DESCRIPTION:Fifty years into their marriage, Bill and Nancy want a divorce. Shaken by this decision, their two adult sons are forced to re-examine everything they thought they knew about their parents’ outwardly happy lives. This supremely funny and heart-warming comedy ponders issues of love and marriage as the family grapple...
END:VEVENT
END:VCALENDAR