BEGIN:VCALENDAR
PRODID:-//hlt.org.nz//EN
VERSION:2.0
METHOD:PUBLISH
BEGIN:VEVENT
DTSTART;TZID=America/New_York:20240706T
DTEND;TZID=America/New_York:20240727T
URL:https://hlt.org.nz/index.php/whats-on/events-calendar/around-the-world-in-80-days/
SUMMARY:Around The World In 80 Days
LOCATION:
DESCRIPTION:A man of money and scientific reason in Victorian London, Phileas Fogg has staked his life’s fortune that he can circumnavigate the globe in a mere 80 days. Join Fogg and his loyal valet, Passepartout, on their action-packed and globetrotting adventure across seven continents filled with bandits, runaway trains, a...
END:VEVENT
END:VCALENDAR