BEGIN:VCALENDAR
PRODID:-//hlt.org.nz//EN
VERSION:2.0
METHOD:PUBLISH
BEGIN:VEVENT
DTSTART;TZID=America/New_York:20200711T200000
DTEND;TZID=America/New_York:20200801T220000
URL:https://hlt.org.nz/whats-on/events-calendar/love-from-a-stranger/
SUMMARY:Love from a Stranger
LOCATION:
DESCRIPTION:Cecily Harrington’s fiancé is overseas when she wins a big lottery and decides to postpone their wedding to take a European trip. Before she leaves, she meets Bruce Lovell, who sweeps her off her feet, marries her, and then takes her to live with him in a remote country cottage.
END:VEVENT
END:VCALENDAR