BEGIN:VCALENDAR
PRODID:-//hlt.org.nz//EN
VERSION:2.0
METHOD:PUBLISH
BEGIN:VEVENT
DTSTART;TZID=America/New_York:20210710T
DTEND;TZID=America/New_York:20210731T
URL:https://hlt.org.nz/whats-on/events-calendar/the-viewing-room/
SUMMARY:The Viewing Room
LOCATION:
DESCRIPTION:Driven by his failure to communicate when alive, patriarch Chester Dumbrosky has decided to “return” on the day of his wake to set the record straight and make amends to his family. Understandably, they have mixed emotions about his reawakening, but there are lots of laughs among the angst as...
END:VEVENT
END:VCALENDAR