BEGIN:VCALENDAR
PRODID:-//hlt.org.nz//EN
VERSION:2.0
METHOD:PUBLISH
BEGIN:VEVENT
DTSTART;TZID=America/New_York:20200926T200000
DTEND;TZID=America/New_York:20201017T223000
URL:https://hlt.org.nz/whats-on/events-calendar/dead-simple/
SUMMARY:Peter James’ Dead Simple
LOCATION:
DESCRIPTION:In this thriller, originally from the pen of Peter James, Michael Harrison thinks he has it all: a great career, good friends and a beautiful fiancée. But when his stag-night prank goes horribly wrong, he finds himself buried alive and staring death in the face.
END:VEVENT
END:VCALENDAR