BEGIN:VCALENDAR
PRODID:-//hlt.org.nz//EN
VERSION:2.0
METHOD:PUBLISH
BEGIN:VEVENT
DTSTART;TZID=America/New_York:20201121T
DTEND;TZID=America/New_York:20201212T
URL:https://hlt.org.nz/whats-on/events-calendar/a-christmas-carol/
SUMMARY:A Christmas Carol
LOCATION:
DESCRIPTION:It’s Christmas Eve 1843, and friends and family gathered at Charles Dickens’s home ask him to tell a story, but he refuses to work on Christmas Eve. If there is going to be a story, he says each must take a part in its telling.
END:VEVENT
END:VCALENDAR