BEGIN:VCALENDAR
PRODID:-//hlt.org.nz//EN
VERSION:2.0
METHOD:PUBLISH
BEGIN:VEVENT
DTSTART;TZID=America/New_York:20210602T
DTEND;TZID=America/New_York:20210605T
URL:https://hlt.org.nz/whats-on/events-calendar/dinner-with-friends/
SUMMARY:Dinner With Friends
LOCATION:
DESCRIPTION:Like any culinary trend, relationships are destined to evolve over time, but can the recipe of friendship retain its zest if the key ingredients begin to change? A fabulous dinner at the home of food writers Gabe and Karen proves hard to swallow when Beth drops the bomb that husband...
END:VEVENT
END:VCALENDAR