BEGIN:VCALENDAR
PRODID:-//hlt.org.nz//EN
VERSION:2.0
METHOD:PUBLISH
BEGIN:VEVENT
DTSTART;TZID=America/New_York:20201021T
DTEND;TZID=America/New_York:20201024T
URL:https://hlt.org.nz/whats-on/events-calendar/swallow-the-fly/
SUMMARY:Swallow The Fly
LOCATION:
DESCRIPTION:When Jack’s mother and her uncontrollable hoarding are about to destroy the family home, Jack gets more than he bargained for. Facing loss and personal tragedy, Jack learns we can never truly get rid of everything that comes between us and the consequences of the choices that define who we are.
END:VEVENT
END:VCALENDAR