BEGIN:VCALENDAR
PRODID:-//hlt.org.nz//EN
VERSION:2.0
METHOD:PUBLISH
BEGIN:VEVENT
DTSTART;TZID=America/New_York:20210310T
DTEND;TZID=America/New_York:20210327T
URL:https://hlt.org.nz/whats-on/events-calendar/the-house/
SUMMARY:The House
LOCATION:
DESCRIPTION:The Redmonds have an unusually close relationship – with their house. But now their children are grown up, it’s time to sell. They want to entrust their home of 20 years to the perfect buyers, even if it means a lower price.
END:VEVENT
END:VCALENDAR