BEGIN:VCALENDAR
PRODID:-//hlt.org.nz//EN
VERSION:2.0
METHOD:PUBLISH
BEGIN:VEVENT
DTSTART;TZID=America/New_York:20210911T
DTEND;TZID=America/New_York:20211002T
URL:https://hlt.org.nz/whats-on/events-calendar/my-cousin-rachel/
SUMMARY:My Cousin Rachel
LOCATION:
DESCRIPTION:When the enigmatic Countess Rachel Sangalletti travels from Florence to the Ashley Estate in Cornwall, home of her recently deceased husband, her presence arouses dark suspicions and uncontrollable desires, not least in young Philip, cousin and heir to the Ashley home.
END:VEVENT
END:VCALENDAR