BEGIN:VCALENDAR
PRODID:-//hlt.org.nz//EN
VERSION:2.0
METHOD:PUBLISH
BEGIN:VEVENT
DTSTART;TZID=America/New_York:20211113T
DTEND;TZID=America/New_York:20211204T
URL:https://hlt.org.nz/whats-on/events-calendar/hildas-yard/
SUMMARY:Hilda's Yard
LOCATION:
DESCRIPTION:How unbreakable are the ties that bind a family together? It’s the swinging 60s, and happy empty-nesters Sam and Hilda are finally enjoying life on their own. But their peaceful home turns to chaos when their unemployed son and newly-single daughter return for an unexpected stay.
END:VEVENT
END:VCALENDAR